BEGIN:VCALENDAR
VERSION:2.0
PRODID:-//fa.cvut.cz//calendar//EN
BEGIN:VEVENT
UID:event-114232@fa.cvut.cz
DTSTAMP:20250818T121723Z
DTSTART:20250911T220000Z
DTEND:20250911T230000Z
SUMMARY:Submission of DP assignment for WS
END:VEVENT
END:VCALENDAR
