BEGIN:VCALENDAR
VERSION:2.0
PRODID:-//fa.cvut.cz//calendar//EN
BEGIN:VEVENT
UID:event-114239@fa.cvut.cz
DTSTAMP:20250818T124145Z
DTSTART:20250922T160000Z
DTEND:20250922T160000Z
SUMMARY:FA Restart
END:VEVENT
END:VCALENDAR
