BEGIN:VCALENDAR
VERSION:2.0
PRODID:-//fa.cvut.cz//calendar//EN
BEGIN:VEVENT
UID:event-114292@fa.cvut.cz
DTSTAMP:20250819T074706Z
DTSTART:20260919T220000Z
DTEND:20260919T230000Z
SUMMARY:End of the academic year
END:VEVENT
END:VCALENDAR
