BEGIN:VCALENDAR
VERSION:2.0
PRODID:-//fa.cvut.cz//calendar//EN
BEGIN:VEVENT
UID:event-56532@fa.cvut.cz
DTSTAMP:20230605T080404Z
DTSTART:20230710T215900Z
DTEND:20230710T215900Z
SUMMARY:EXTENDED - 28. vol Urban Design Award - call for projects
END:VEVENT
END:VCALENDAR
