BEGIN:VCALENDAR
VERSION:2.0
PRODID:-//fa.cvut.cz//calendar//EN
BEGIN:VEVENT
UID:event-88552@fa.cvut.cz
DTSTAMP:20241004T122834Z
DTSTART:20241111T173000Z
DTEND:20241111T173000Z
SUMMARY:November Talks 2024: Summer Islam – Material Landscapes
LOCATION:FA CTU\, 155 – Gočár
END:VEVENT
END:VCALENDAR
