BEGIN:VCALENDAR
VERSION:2.0
PRODID:-//fa.cvut.cz//calendar//EN
BEGIN:VEVENT
UID:event-89115@fa.cvut.cz
DTSTAMP:20241212T095312Z
DTSTART:20250331T220000Z
DTEND:20250429T220000Z
SUMMARY:Accepting applications for Ph.D. study programs
END:VEVENT
END:VCALENDAR
